BEGIN:VCALENDAR
VERSION:2.0
PRODID:spatie/icalendar-generator
DESCRIPTION:Events from The Hamptons of Duluth
X-WR-CALDESC:Events from The Hamptons of Duluth
REFRESH-INTERVAL;VALUE=DURATION:PT1440M
X-PUBLISHED-TTL:PT1440M
BEGIN:VTIMEZONE
TZID:America/New_York
BEGIN:STANDARD
DTSTART:20251102T020000Z
TZOFFSETFROM:-0400
TZOFFSETTO:-0500
END:STANDARD
BEGIN:DAYLIGHT
DTSTART:20260308T020000Z
TZOFFSETFROM:-0500
TZOFFSETTO:-0400
END:DAYLIGHT
BEGIN:STANDARD
DTSTART:20261101T020000Z
TZOFFSETFROM:-0400
TZOFFSETTO:-0500
END:STANDARD
END:VTIMEZONE
BEGIN:VTIMEZONE
TZID:UTC
BEGIN:STANDARD
DTSTART:20250726T182046Z
TZOFFSETFROM:+0000
TZOFFSETTO:+0000
END:STANDARD
END:VTIMEZONE
BEGIN:VEVENT
UID:41-2
DTSTAMP:20260422T182046Z
SUMMARY:HOA Meeting
LOCATION:Hamptons Clubhouse
ORGANIZER;CN=Jane Hunt:MAILTO:gogowin1@gmail.com
RRULE:FREQ=MONTHLY;BYDAY=1MO;UNTIL=20330207T000000Z
DTSTART;TZID=America/New_York:20260504T190000
DTEND;TZID=America/New_York:20260504T200000
X-ALT-DESC;FMTTYPE=TEXT/HTML:
CATEGORIES:General
URL;VALUE=URI:https://hamptonplacehomeowner.com/mc-events/hoa-meeting/?mc_i
 d=41
METHOD:PUBLISH
END:VEVENT
END:VCALENDAR