BEGIN:VCALENDAR
VERSION:2.0
PRODID:spatie/icalendar-generator
DESCRIPTION:Events from The Hamptons of Duluth
X-WR-CALDESC:Events from The Hamptons of Duluth
REFRESH-INTERVAL;VALUE=DURATION:PT1440M
X-PUBLISHED-TTL:PT1440M
BEGIN:VTIMEZONE
TZID:America/New_York
BEGIN:STANDARD
DTSTART:20251102T020000Z
TZOFFSETFROM:-0400
TZOFFSETTO:-0500
END:STANDARD
BEGIN:DAYLIGHT
DTSTART:20260308T020000Z
TZOFFSETFROM:-0500
TZOFFSETTO:-0400
END:DAYLIGHT
BEGIN:STANDARD
DTSTART:20261101T020000Z
TZOFFSETFROM:-0400
TZOFFSETTO:-0500
END:STANDARD
END:VTIMEZONE
BEGIN:VTIMEZONE
TZID:UTC
BEGIN:STANDARD
DTSTART:20250726T163512Z
TZOFFSETFROM:+0000
TZOFFSETTO:+0000
END:STANDARD
END:VTIMEZONE
BEGIN:VEVENT
UID:1781-271
DTSTAMP:20260422T163512Z
SUMMARY:Neighborhood Garage Sale
LOCATION:
ORGANIZER;CN=susand:MAILTO:sjdugan510@gmail.com
DTSTART;TZID=America/New_York:20260502T080000
DTEND;TZID=America/New_York:20260502T140000
X-ALT-DESC;FMTTYPE=TEXT/HTML:
CATEGORIES:General
URL;VALUE=URI:https://hamptonplacehomeowner.com/mc-events/neighborhood-gara
 ge-sale/
METHOD:PUBLISH
END:VEVENT
END:VCALENDAR