BEGIN:VCALENDAR
VERSION:2.0
PRODID:spatie/icalendar-generator
DESCRIPTION:Events from The Hamptons of Duluth
X-WR-CALDESC:Events from The Hamptons of Duluth
REFRESH-INTERVAL;VALUE=DURATION:PT1440M
X-PUBLISHED-TTL:PT1440M
BEGIN:VTIMEZONE
TZID:America/New_York
BEGIN:STANDARD
DTSTART:20251102T020000Z
TZOFFSETFROM:-0400
TZOFFSETTO:-0500
END:STANDARD
BEGIN:DAYLIGHT
DTSTART:20260308T020000Z
TZOFFSETFROM:-0500
TZOFFSETTO:-0400
END:DAYLIGHT
END:VTIMEZONE
BEGIN:VTIMEZONE
TZID:UTC
BEGIN:STANDARD
DTSTART:20250726T164702Z
TZOFFSETFROM:+0000
TZOFFSETTO:+0000
END:STANDARD
END:VTIMEZONE
BEGIN:VEVENT
UID:1349-261
DTSTAMP:20260422T164702Z
SUMMARY:Get Fit Hampton!
LOCATION:Hamptons Clubhouse
ORGANIZER;CN=susand:MAILTO:sjdugan510@gmail.com
RRULE:FREQ=WEEKLY;UNTIL=20280309T000000Z
DTSTART;TZID=America/New_York:20260402T180000
DTEND;TZID=America/New_York:20260402T191500
X-ALT-DESC;FMTTYPE=TEXT/HTML:
CATEGORIES:Social Events
URL;VALUE=URI:https://hamptonplacehomeowner.com/mc-events/get-fit-hampton-9
 /?mc_id=1349
METHOD:PUBLISH
END:VEVENT
END:VCALENDAR